BEGIN:VCALENDAR
VERSION:2.0
PRODID:WorCo
X-WR-CALNAME:Little Feat: The Last Farewell Tour
BEGIN:VEVENT
UID:351162026-05-26
DTSTART:20260526T230000Z
SEQUENCE:0
TRANSP:OPAQUE
DTEND:20260526T040000Z
LOCATION:4001 Coastal Highway\nOcean City Maryland 21842
X-APPLE-STRUCTURED-LOCATION;VALUE=URI;X-ADDRESS=4001 Coastal Highway\nOcean
  City Maryland 21842;X-APPLE-RADIUS=49;X-TITLE=4001 Coastal Highway:geo:38
 .368159,-75.074256
GEO:38.368159;-75.074256
SUMMARY:Little Feat: The Last Farewell Tour
CLASS:PUBLIC
DESCRIPTION:Little Feat is bringing _The Last Farewell Tour_ to the Ocean
  City\nPerforming Arts Center on Tuesday\, May 26 at 7PM.\n\nAfter more th
 an five decades on the road\, the legendary band is\nbeginning a long\, th
 oughtful wind-down from touring. This is not a\nfinal goodbye\, but a cele
 bration of the music\, the journey\, and the\njoy of playing live that has
  defined Little Feat since 1969.\n\nFormed when Frank Zappa encouraged Low
 ell George to start his own\nband\, Little Feat quickly carved out a sound
  all their own—an\nirresistible blend of rock\, New Orleans funk\, jazz\
 , and blues. Along\nthe way came iconic songs like “DIXIE CHICKEN\,” 
 “WILLIN’\,”\n“OH\, ATLANTA\,” and “FAT MAN IN THE BATHTUB\,
 ” plus one of\nrock’s most celebrated live albums\, _Waiting for Col
 umbus_.\n\nToday’s lineup carries that legacy forward with the same deep
  groove\nand musical fire\, recently releasing the acclaimed album _Strik
 e Up\nthe Band_. Fans can expect a night filled with classic songs\,\nmast
 erful musicianship\, and the unmistakable Little Feat spirit.\n\nPURCHASE 
 TICKETS\n[https://www.etix.com/ticket/p/80618191/little-feat-the-farewell-
 tour-ocean-city-oc-performing-arts-center]\n
X-ALT-DESC;FMTTYPE=text/html:<p>Little Feat is bringing&nbsp\;<em>The Last 
 Farewell Tour</em>&nbsp\;to the Ocean City Performing Arts Center on Tuesd
 ay\, May 26 at 7PM.</p>\n\n<p>After more than five decades on the road\, t
 he legendary band is beginning a long\, thoughtful wind-down from touring.
  This is not a final goodbye\, but a celebration of the music\, the journe
 y\, and the joy of playing live that has defined Little Feat since 1969.</
 p>\n\n<p>Formed when Frank Zappa encouraged Lowell George to start his own
  band\, Little Feat quickly carved out a sound all their own&mdash\;an irr
 esistible blend of rock\, New Orleans funk\, jazz\, and blues. Along the w
 ay came iconic songs like&nbsp\;<strong>&ldquo\;Dixie Chicken\,&rdquo\; &l
 dquo\;Willin&rsquo\;\,&rdquo\; &ldquo\;Oh\, Atlanta\,&rdquo\;</strong>&nbs
 p\;and&nbsp\;<strong>&ldquo\;Fat Man in the Bathtub\,&rdquo\;</strong>&nbs
 p\;plus one of rock&rsquo\;s most celebrated live albums\,&nbsp\;<em>Waiti
 ng for Columbus</em>.</p>\n\n<p>Today&rsquo\;s lineup carries that legacy 
 forward with the same deep groove and musical fire\, recently releasing th
 e acclaimed album&nbsp\;<em>Strike Up the Band</em>. Fans can expect a nig
 ht filled with classic songs\, masterful musicianship\, and the unmistakab
 le Little Feat spirit.</p>\n\n<p><a href=\"https://www.etix.com/ticket/p/8
 0618191/little-feat-the-farewell-tour-ocean-city-oc-performing-arts-center
 \" target=\"_blank\">PURCHASE TICKETS</a></p>
DTSTAMP:20260424T000013Z
END:VEVENT
END:VCALENDAR