BEGIN:VCALENDAR
VERSION:2.0
PRODID:crystalbeach.exploreoc.com
X-WR-CALNAME:Happy Hour Specials at Pit 'n Pub
BEGIN:VEVENT
UID:4562026-04-232026-04-23
DTSTART:20260423T180000Z
SEQUENCE:0
TRANSP:OPAQUE
DTEND:20260423T180000Z
LOCATION:2706 Philadelphia Ave\nOcean City MD 21842
X-APPLE-STRUCTURED-LOCATION;VALUE=URI;X-ADDRESS=2706 Philadelphia Ave\nOcea
 n City MD 21842;X-APPLE-RADIUS=49;X-TITLE=2706 Philadelphia Ave:geo:38.356
 731,-75.074822
GEO:38.356731;-75.074822
SUMMARY:Happy Hour Specials at Pit 'n Pub
CLASS:PUBLIC
DESCRIPTION:TODAY'S HAPPY HOUR SPECIALS:\n\n * 25% Off All Drinks and Appet
 izers\n\n
X-ALT-DESC;FMTTYPE=text/html:<p><strong>Today&#39\;s Happy Hour Specials:</
 strong></p>\n\n<ul>\n<li>25% Off All Drinks and Appetizers</li>\n</ul>
DTSTAMP:20260424T081125Z
END:VEVENT
BEGIN:VEVENT
UID:4562026-04-242026-04-24
DTSTART:20260424T180000Z
SEQUENCE:0
TRANSP:OPAQUE
DTEND:20260424T180000Z
LOCATION:2706 Philadelphia Ave\nOcean City MD 21842
X-APPLE-STRUCTURED-LOCATION;VALUE=URI;X-ADDRESS=2706 Philadelphia Ave\nOcea
 n City MD 21842;X-APPLE-RADIUS=49;X-TITLE=2706 Philadelphia Ave:geo:38.356
 731,-75.074822
GEO:38.356731;-75.074822
SUMMARY:Happy Hour Specials at Pit 'n Pub
CLASS:PUBLIC
DESCRIPTION:TODAY'S HAPPY HOUR SPECIALS:\n\n * 25% Off All Drinks and Appet
 izers\n\n
X-ALT-DESC;FMTTYPE=text/html:<p><strong>Today&#39\;s Happy Hour Specials:</
 strong></p>\n\n<ul>\n<li>25% Off All Drinks and Appetizers</li>\n</ul>
DTSTAMP:20260424T081125Z
END:VEVENT
BEGIN:VEVENT
UID:4562026-04-252026-04-25
DTSTART:20260425T180000Z
SEQUENCE:0
TRANSP:OPAQUE
DTEND:20260425T180000Z
LOCATION:2706 Philadelphia Ave\nOcean City MD 21842
X-APPLE-STRUCTURED-LOCATION;VALUE=URI;X-ADDRESS=2706 Philadelphia Ave\nOcea
 n City MD 21842;X-APPLE-RADIUS=49;X-TITLE=2706 Philadelphia Ave:geo:38.356
 731,-75.074822
GEO:38.356731;-75.074822
SUMMARY:Happy Hour Specials at Pit 'n Pub
CLASS:PUBLIC
DESCRIPTION:TODAY'S HAPPY HOUR SPECIALS:\n\n * 25% Off All Drinks and Appet
 izers\n\n
X-ALT-DESC;FMTTYPE=text/html:<p><strong>Today&#39\;s Happy Hour Specials:</
 strong></p>\n\n<ul>\n<li>25% Off All Drinks and Appetizers</li>\n</ul>
DTSTAMP:20260424T081125Z
END:VEVENT
BEGIN:VEVENT
UID:4562026-04-262026-04-26
DTSTART:20260426T180000Z
SEQUENCE:0
TRANSP:OPAQUE
DTEND:20260426T180000Z
LOCATION:2706 Philadelphia Ave\nOcean City MD 21842
X-APPLE-STRUCTURED-LOCATION;VALUE=URI;X-ADDRESS=2706 Philadelphia Ave\nOcea
 n City MD 21842;X-APPLE-RADIUS=49;X-TITLE=2706 Philadelphia Ave:geo:38.356
 731,-75.074822
GEO:38.356731;-75.074822
SUMMARY:Happy Hour Specials at Pit 'n Pub
CLASS:PUBLIC
DESCRIPTION:TODAY'S HAPPY HOUR SPECIALS:\n\n * 25% Off All Drinks and Appet
 izers\n\n
X-ALT-DESC;FMTTYPE=text/html:<p><strong>Today&#39\;s Happy Hour Specials:</
 strong></p>\n\n<ul>\n<li>25% Off All Drinks and Appetizers</li>\n</ul>
DTSTAMP:20260424T081125Z
END:VEVENT
BEGIN:VEVENT
UID:4562026-04-272026-04-27
DTSTART:20260427T180000Z
SEQUENCE:0
TRANSP:OPAQUE
DTEND:20260427T180000Z
LOCATION:2706 Philadelphia Ave\nOcean City MD 21842
X-APPLE-STRUCTURED-LOCATION;VALUE=URI;X-ADDRESS=2706 Philadelphia Ave\nOcea
 n City MD 21842;X-APPLE-RADIUS=49;X-TITLE=2706 Philadelphia Ave:geo:38.356
 731,-75.074822
GEO:38.356731;-75.074822
SUMMARY:Happy Hour Specials at Pit 'n Pub
CLASS:PUBLIC
DESCRIPTION:TODAY'S HAPPY HOUR SPECIALS:\n\n * 25% Off All Drinks and Appet
 izers\n\n
X-ALT-DESC;FMTTYPE=text/html:<p><strong>Today&#39\;s Happy Hour Specials:</
 strong></p>\n\n<ul>\n<li>25% Off All Drinks and Appetizers</li>\n</ul>
DTSTAMP:20260424T081125Z
END:VEVENT
BEGIN:VEVENT
UID:4562026-04-282026-04-28
DTSTART:20260428T180000Z
SEQUENCE:0
TRANSP:OPAQUE
DTEND:20260428T180000Z
LOCATION:2706 Philadelphia Ave\nOcean City MD 21842
X-APPLE-STRUCTURED-LOCATION;VALUE=URI;X-ADDRESS=2706 Philadelphia Ave\nOcea
 n City MD 21842;X-APPLE-RADIUS=49;X-TITLE=2706 Philadelphia Ave:geo:38.356
 731,-75.074822
GEO:38.356731;-75.074822
SUMMARY:Happy Hour Specials at Pit 'n Pub
CLASS:PUBLIC
DESCRIPTION:TODAY'S HAPPY HOUR SPECIALS:\n\n * 25% Off All Drinks and Appet
 izers\n\n
X-ALT-DESC;FMTTYPE=text/html:<p><strong>Today&#39\;s Happy Hour Specials:</
 strong></p>\n\n<ul>\n<li>25% Off All Drinks and Appetizers</li>\n</ul>
DTSTAMP:20260424T081125Z
END:VEVENT
BEGIN:VEVENT
UID:4562026-04-292026-04-29
DTSTART:20260429T180000Z
SEQUENCE:0
TRANSP:OPAQUE
DTEND:20260429T180000Z
LOCATION:2706 Philadelphia Ave\nOcean City MD 21842
X-APPLE-STRUCTURED-LOCATION;VALUE=URI;X-ADDRESS=2706 Philadelphia Ave\nOcea
 n City MD 21842;X-APPLE-RADIUS=49;X-TITLE=2706 Philadelphia Ave:geo:38.356
 731,-75.074822
GEO:38.356731;-75.074822
SUMMARY:Happy Hour Specials at Pit 'n Pub
CLASS:PUBLIC
DESCRIPTION:TODAY'S HAPPY HOUR SPECIALS:\n\n * 25% Off All Drinks and Appet
 izers\n\n
X-ALT-DESC;FMTTYPE=text/html:<p><strong>Today&#39\;s Happy Hour Specials:</
 strong></p>\n\n<ul>\n<li>25% Off All Drinks and Appetizers</li>\n</ul>
DTSTAMP:20260424T081125Z
END:VEVENT
BEGIN:VEVENT
UID:4562026-04-302026-04-30
DTSTART:20260430T180000Z
SEQUENCE:0
TRANSP:OPAQUE
DTEND:20260430T180000Z
LOCATION:2706 Philadelphia Ave\nOcean City MD 21842
X-APPLE-STRUCTURED-LOCATION;VALUE=URI;X-ADDRESS=2706 Philadelphia Ave\nOcea
 n City MD 21842;X-APPLE-RADIUS=49;X-TITLE=2706 Philadelphia Ave:geo:38.356
 731,-75.074822
GEO:38.356731;-75.074822
SUMMARY:Happy Hour Specials at Pit 'n Pub
CLASS:PUBLIC
DESCRIPTION:TODAY'S HAPPY HOUR SPECIALS:\n\n * 25% Off All Drinks and Appet
 izers\n\n
X-ALT-DESC;FMTTYPE=text/html:<p><strong>Today&#39\;s Happy Hour Specials:</
 strong></p>\n\n<ul>\n<li>25% Off All Drinks and Appetizers</li>\n</ul>
DTSTAMP:20260424T081125Z
END:VEVENT
BEGIN:VEVENT
UID:4562026-05-012026-05-01
DTSTART:20260501T180000Z
SEQUENCE:0
TRANSP:OPAQUE
DTEND:20260501T180000Z
LOCATION:2706 Philadelphia Ave\nOcean City MD 21842
X-APPLE-STRUCTURED-LOCATION;VALUE=URI;X-ADDRESS=2706 Philadelphia Ave\nOcea
 n City MD 21842;X-APPLE-RADIUS=49;X-TITLE=2706 Philadelphia Ave:geo:38.356
 731,-75.074822
GEO:38.356731;-75.074822
SUMMARY:Happy Hour Specials at Pit 'n Pub
CLASS:PUBLIC
DESCRIPTION:TODAY'S HAPPY HOUR SPECIALS:\n\n * 25% Off All Drinks and Appet
 izers\n\n
X-ALT-DESC;FMTTYPE=text/html:<p><strong>Today&#39\;s Happy Hour Specials:</
 strong></p>\n\n<ul>\n<li>25% Off All Drinks and Appetizers</li>\n</ul>
DTSTAMP:20260424T081125Z
END:VEVENT
BEGIN:VEVENT
UID:4562026-05-022026-05-02
DTSTART:20260502T180000Z
SEQUENCE:0
TRANSP:OPAQUE
DTEND:20260502T180000Z
LOCATION:2706 Philadelphia Ave\nOcean City MD 21842
X-APPLE-STRUCTURED-LOCATION;VALUE=URI;X-ADDRESS=2706 Philadelphia Ave\nOcea
 n City MD 21842;X-APPLE-RADIUS=49;X-TITLE=2706 Philadelphia Ave:geo:38.356
 731,-75.074822
GEO:38.356731;-75.074822
SUMMARY:Happy Hour Specials at Pit 'n Pub
CLASS:PUBLIC
DESCRIPTION:TODAY'S HAPPY HOUR SPECIALS:\n\n * 25% Off All Drinks and Appet
 izers\n\n
X-ALT-DESC;FMTTYPE=text/html:<p><strong>Today&#39\;s Happy Hour Specials:</
 strong></p>\n\n<ul>\n<li>25% Off All Drinks and Appetizers</li>\n</ul>
DTSTAMP:20260424T081125Z
END:VEVENT
BEGIN:VEVENT
UID:4562026-05-032026-05-03
DTSTART:20260503T180000Z
SEQUENCE:0
TRANSP:OPAQUE
DTEND:20260503T180000Z
LOCATION:2706 Philadelphia Ave\nOcean City MD 21842
X-APPLE-STRUCTURED-LOCATION;VALUE=URI;X-ADDRESS=2706 Philadelphia Ave\nOcea
 n City MD 21842;X-APPLE-RADIUS=49;X-TITLE=2706 Philadelphia Ave:geo:38.356
 731,-75.074822
GEO:38.356731;-75.074822
SUMMARY:Happy Hour Specials at Pit 'n Pub
CLASS:PUBLIC
DESCRIPTION:TODAY'S HAPPY HOUR SPECIALS:\n\n * 25% Off All Drinks and Appet
 izers\n\n
X-ALT-DESC;FMTTYPE=text/html:<p><strong>Today&#39\;s Happy Hour Specials:</
 strong></p>\n\n<ul>\n<li>25% Off All Drinks and Appetizers</li>\n</ul>
DTSTAMP:20260424T081125Z
END:VEVENT
BEGIN:VEVENT
UID:4562026-05-042026-05-04
DTSTART:20260504T180000Z
SEQUENCE:0
TRANSP:OPAQUE
DTEND:20260504T180000Z
LOCATION:2706 Philadelphia Ave\nOcean City MD 21842
X-APPLE-STRUCTURED-LOCATION;VALUE=URI;X-ADDRESS=2706 Philadelphia Ave\nOcea
 n City MD 21842;X-APPLE-RADIUS=49;X-TITLE=2706 Philadelphia Ave:geo:38.356
 731,-75.074822
GEO:38.356731;-75.074822
SUMMARY:Happy Hour Specials at Pit 'n Pub
CLASS:PUBLIC
DESCRIPTION:TODAY'S HAPPY HOUR SPECIALS:\n\n * 25% Off All Drinks and Appet
 izers\n\n
X-ALT-DESC;FMTTYPE=text/html:<p><strong>Today&#39\;s Happy Hour Specials:</
 strong></p>\n\n<ul>\n<li>25% Off All Drinks and Appetizers</li>\n</ul>
DTSTAMP:20260424T081125Z
END:VEVENT
BEGIN:VEVENT
UID:4562026-05-052026-05-05
DTSTART:20260505T180000Z
SEQUENCE:0
TRANSP:OPAQUE
DTEND:20260505T180000Z
LOCATION:2706 Philadelphia Ave\nOcean City MD 21842
X-APPLE-STRUCTURED-LOCATION;VALUE=URI;X-ADDRESS=2706 Philadelphia Ave\nOcea
 n City MD 21842;X-APPLE-RADIUS=49;X-TITLE=2706 Philadelphia Ave:geo:38.356
 731,-75.074822
GEO:38.356731;-75.074822
SUMMARY:Happy Hour Specials at Pit 'n Pub
CLASS:PUBLIC
DESCRIPTION:TODAY'S HAPPY HOUR SPECIALS:\n\n * 25% Off All Drinks and Appet
 izers\n\n
X-ALT-DESC;FMTTYPE=text/html:<p><strong>Today&#39\;s Happy Hour Specials:</
 strong></p>\n\n<ul>\n<li>25% Off All Drinks and Appetizers</li>\n</ul>
DTSTAMP:20260424T081125Z
END:VEVENT
BEGIN:VEVENT
UID:4562026-05-062026-05-06
DTSTART:20260506T180000Z
SEQUENCE:0
TRANSP:OPAQUE
DTEND:20260506T180000Z
LOCATION:2706 Philadelphia Ave\nOcean City MD 21842
X-APPLE-STRUCTURED-LOCATION;VALUE=URI;X-ADDRESS=2706 Philadelphia Ave\nOcea
 n City MD 21842;X-APPLE-RADIUS=49;X-TITLE=2706 Philadelphia Ave:geo:38.356
 731,-75.074822
GEO:38.356731;-75.074822
SUMMARY:Happy Hour Specials at Pit 'n Pub
CLASS:PUBLIC
DESCRIPTION:TODAY'S HAPPY HOUR SPECIALS:\n\n * 25% Off All Drinks and Appet
 izers\n\n
X-ALT-DESC;FMTTYPE=text/html:<p><strong>Today&#39\;s Happy Hour Specials:</
 strong></p>\n\n<ul>\n<li>25% Off All Drinks and Appetizers</li>\n</ul>
DTSTAMP:20260424T081125Z
END:VEVENT
BEGIN:VEVENT
UID:4562026-05-072026-05-07
DTSTART:20260507T180000Z
SEQUENCE:0
TRANSP:OPAQUE
DTEND:20260507T180000Z
LOCATION:2706 Philadelphia Ave\nOcean City MD 21842
X-APPLE-STRUCTURED-LOCATION;VALUE=URI;X-ADDRESS=2706 Philadelphia Ave\nOcea
 n City MD 21842;X-APPLE-RADIUS=49;X-TITLE=2706 Philadelphia Ave:geo:38.356
 731,-75.074822
GEO:38.356731;-75.074822
SUMMARY:Happy Hour Specials at Pit 'n Pub
CLASS:PUBLIC
DESCRIPTION:TODAY'S HAPPY HOUR SPECIALS:\n\n * 25% Off All Drinks and Appet
 izers\n\n
X-ALT-DESC;FMTTYPE=text/html:<p><strong>Today&#39\;s Happy Hour Specials:</
 strong></p>\n\n<ul>\n<li>25% Off All Drinks and Appetizers</li>\n</ul>
DTSTAMP:20260424T081125Z
END:VEVENT
BEGIN:VEVENT
UID:4562026-05-082026-05-08
DTSTART:20260508T180000Z
SEQUENCE:0
TRANSP:OPAQUE
DTEND:20260508T180000Z
LOCATION:2706 Philadelphia Ave\nOcean City MD 21842
X-APPLE-STRUCTURED-LOCATION;VALUE=URI;X-ADDRESS=2706 Philadelphia Ave\nOcea
 n City MD 21842;X-APPLE-RADIUS=49;X-TITLE=2706 Philadelphia Ave:geo:38.356
 731,-75.074822
GEO:38.356731;-75.074822
SUMMARY:Happy Hour Specials at Pit 'n Pub
CLASS:PUBLIC
DESCRIPTION:TODAY'S HAPPY HOUR SPECIALS:\n\n * 25% Off All Drinks and Appet
 izers\n\n
X-ALT-DESC;FMTTYPE=text/html:<p><strong>Today&#39\;s Happy Hour Specials:</
 strong></p>\n\n<ul>\n<li>25% Off All Drinks and Appetizers</li>\n</ul>
DTSTAMP:20260424T081125Z
END:VEVENT
BEGIN:VEVENT
UID:4562026-05-092026-05-09
DTSTART:20260509T180000Z
SEQUENCE:0
TRANSP:OPAQUE
DTEND:20260509T180000Z
LOCATION:2706 Philadelphia Ave\nOcean City MD 21842
X-APPLE-STRUCTURED-LOCATION;VALUE=URI;X-ADDRESS=2706 Philadelphia Ave\nOcea
 n City MD 21842;X-APPLE-RADIUS=49;X-TITLE=2706 Philadelphia Ave:geo:38.356
 731,-75.074822
GEO:38.356731;-75.074822
SUMMARY:Happy Hour Specials at Pit 'n Pub
CLASS:PUBLIC
DESCRIPTION:TODAY'S HAPPY HOUR SPECIALS:\n\n * 25% Off All Drinks and Appet
 izers\n\n
X-ALT-DESC;FMTTYPE=text/html:<p><strong>Today&#39\;s Happy Hour Specials:</
 strong></p>\n\n<ul>\n<li>25% Off All Drinks and Appetizers</li>\n</ul>
DTSTAMP:20260424T081125Z
END:VEVENT
BEGIN:VEVENT
UID:4562026-05-102026-05-10
DTSTART:20260510T180000Z
SEQUENCE:0
TRANSP:OPAQUE
DTEND:20260510T180000Z
LOCATION:2706 Philadelphia Ave\nOcean City MD 21842
X-APPLE-STRUCTURED-LOCATION;VALUE=URI;X-ADDRESS=2706 Philadelphia Ave\nOcea
 n City MD 21842;X-APPLE-RADIUS=49;X-TITLE=2706 Philadelphia Ave:geo:38.356
 731,-75.074822
GEO:38.356731;-75.074822
SUMMARY:Happy Hour Specials at Pit 'n Pub
CLASS:PUBLIC
DESCRIPTION:TODAY'S HAPPY HOUR SPECIALS:\n\n * 25% Off All Drinks and Appet
 izers\n\n
X-ALT-DESC;FMTTYPE=text/html:<p><strong>Today&#39\;s Happy Hour Specials:</
 strong></p>\n\n<ul>\n<li>25% Off All Drinks and Appetizers</li>\n</ul>
DTSTAMP:20260424T081125Z
END:VEVENT
BEGIN:VEVENT
UID:4562026-05-112026-05-11
DTSTART:20260511T180000Z
SEQUENCE:0
TRANSP:OPAQUE
DTEND:20260511T180000Z
LOCATION:2706 Philadelphia Ave\nOcean City MD 21842
X-APPLE-STRUCTURED-LOCATION;VALUE=URI;X-ADDRESS=2706 Philadelphia Ave\nOcea
 n City MD 21842;X-APPLE-RADIUS=49;X-TITLE=2706 Philadelphia Ave:geo:38.356
 731,-75.074822
GEO:38.356731;-75.074822
SUMMARY:Happy Hour Specials at Pit 'n Pub
CLASS:PUBLIC
DESCRIPTION:TODAY'S HAPPY HOUR SPECIALS:\n\n * 25% Off All Drinks and Appet
 izers\n\n
X-ALT-DESC;FMTTYPE=text/html:<p><strong>Today&#39\;s Happy Hour Specials:</
 strong></p>\n\n<ul>\n<li>25% Off All Drinks and Appetizers</li>\n</ul>
DTSTAMP:20260424T081125Z
END:VEVENT
BEGIN:VEVENT
UID:4562026-05-122026-05-12
DTSTART:20260512T180000Z
SEQUENCE:0
TRANSP:OPAQUE
DTEND:20260512T180000Z
LOCATION:2706 Philadelphia Ave\nOcean City MD 21842
X-APPLE-STRUCTURED-LOCATION;VALUE=URI;X-ADDRESS=2706 Philadelphia Ave\nOcea
 n City MD 21842;X-APPLE-RADIUS=49;X-TITLE=2706 Philadelphia Ave:geo:38.356
 731,-75.074822
GEO:38.356731;-75.074822
SUMMARY:Happy Hour Specials at Pit 'n Pub
CLASS:PUBLIC
DESCRIPTION:TODAY'S HAPPY HOUR SPECIALS:\n\n * 25% Off All Drinks and Appet
 izers\n\n
X-ALT-DESC;FMTTYPE=text/html:<p><strong>Today&#39\;s Happy Hour Specials:</
 strong></p>\n\n<ul>\n<li>25% Off All Drinks and Appetizers</li>\n</ul>
DTSTAMP:20260424T081125Z
END:VEVENT
BEGIN:VEVENT
UID:4562026-05-132026-05-13
DTSTART:20260513T180000Z
SEQUENCE:0
TRANSP:OPAQUE
DTEND:20260513T180000Z
LOCATION:2706 Philadelphia Ave\nOcean City MD 21842
X-APPLE-STRUCTURED-LOCATION;VALUE=URI;X-ADDRESS=2706 Philadelphia Ave\nOcea
 n City MD 21842;X-APPLE-RADIUS=49;X-TITLE=2706 Philadelphia Ave:geo:38.356
 731,-75.074822
GEO:38.356731;-75.074822
SUMMARY:Happy Hour Specials at Pit 'n Pub
CLASS:PUBLIC
DESCRIPTION:TODAY'S HAPPY HOUR SPECIALS:\n\n * 25% Off All Drinks and Appet
 izers\n\n
X-ALT-DESC;FMTTYPE=text/html:<p><strong>Today&#39\;s Happy Hour Specials:</
 strong></p>\n\n<ul>\n<li>25% Off All Drinks and Appetizers</li>\n</ul>
DTSTAMP:20260424T081125Z
END:VEVENT
BEGIN:VEVENT
UID:4562026-05-142026-05-14
DTSTART:20260514T180000Z
SEQUENCE:0
TRANSP:OPAQUE
DTEND:20260514T180000Z
LOCATION:2706 Philadelphia Ave\nOcean City MD 21842
X-APPLE-STRUCTURED-LOCATION;VALUE=URI;X-ADDRESS=2706 Philadelphia Ave\nOcea
 n City MD 21842;X-APPLE-RADIUS=49;X-TITLE=2706 Philadelphia Ave:geo:38.356
 731,-75.074822
GEO:38.356731;-75.074822
SUMMARY:Happy Hour Specials at Pit 'n Pub
CLASS:PUBLIC
DESCRIPTION:TODAY'S HAPPY HOUR SPECIALS:\n\n * 25% Off All Drinks and Appet
 izers\n\n
X-ALT-DESC;FMTTYPE=text/html:<p><strong>Today&#39\;s Happy Hour Specials:</
 strong></p>\n\n<ul>\n<li>25% Off All Drinks and Appetizers</li>\n</ul>
DTSTAMP:20260424T081125Z
END:VEVENT
BEGIN:VEVENT
UID:4562026-05-152026-05-15
DTSTART:20260515T180000Z
SEQUENCE:0
TRANSP:OPAQUE
DTEND:20260515T180000Z
LOCATION:2706 Philadelphia Ave\nOcean City MD 21842
X-APPLE-STRUCTURED-LOCATION;VALUE=URI;X-ADDRESS=2706 Philadelphia Ave\nOcea
 n City MD 21842;X-APPLE-RADIUS=49;X-TITLE=2706 Philadelphia Ave:geo:38.356
 731,-75.074822
GEO:38.356731;-75.074822
SUMMARY:Happy Hour Specials at Pit 'n Pub
CLASS:PUBLIC
DESCRIPTION:TODAY'S HAPPY HOUR SPECIALS:\n\n * 25% Off All Drinks and Appet
 izers\n\n
X-ALT-DESC;FMTTYPE=text/html:<p><strong>Today&#39\;s Happy Hour Specials:</
 strong></p>\n\n<ul>\n<li>25% Off All Drinks and Appetizers</li>\n</ul>
DTSTAMP:20260424T081125Z
END:VEVENT
BEGIN:VEVENT
UID:4562026-05-162026-05-16
DTSTART:20260516T180000Z
SEQUENCE:0
TRANSP:OPAQUE
DTEND:20260516T180000Z
LOCATION:2706 Philadelphia Ave\nOcean City MD 21842
X-APPLE-STRUCTURED-LOCATION;VALUE=URI;X-ADDRESS=2706 Philadelphia Ave\nOcea
 n City MD 21842;X-APPLE-RADIUS=49;X-TITLE=2706 Philadelphia Ave:geo:38.356
 731,-75.074822
GEO:38.356731;-75.074822
SUMMARY:Happy Hour Specials at Pit 'n Pub
CLASS:PUBLIC
DESCRIPTION:TODAY'S HAPPY HOUR SPECIALS:\n\n * 25% Off All Drinks and Appet
 izers\n\n
X-ALT-DESC;FMTTYPE=text/html:<p><strong>Today&#39\;s Happy Hour Specials:</
 strong></p>\n\n<ul>\n<li>25% Off All Drinks and Appetizers</li>\n</ul>
DTSTAMP:20260424T081125Z
END:VEVENT
BEGIN:VEVENT
UID:4562026-05-172026-05-17
DTSTART:20260517T180000Z
SEQUENCE:0
TRANSP:OPAQUE
DTEND:20260517T180000Z
LOCATION:2706 Philadelphia Ave\nOcean City MD 21842
X-APPLE-STRUCTURED-LOCATION;VALUE=URI;X-ADDRESS=2706 Philadelphia Ave\nOcea
 n City MD 21842;X-APPLE-RADIUS=49;X-TITLE=2706 Philadelphia Ave:geo:38.356
 731,-75.074822
GEO:38.356731;-75.074822
SUMMARY:Happy Hour Specials at Pit 'n Pub
CLASS:PUBLIC
DESCRIPTION:TODAY'S HAPPY HOUR SPECIALS:\n\n * 25% Off All Drinks and Appet
 izers\n\n
X-ALT-DESC;FMTTYPE=text/html:<p><strong>Today&#39\;s Happy Hour Specials:</
 strong></p>\n\n<ul>\n<li>25% Off All Drinks and Appetizers</li>\n</ul>
DTSTAMP:20260424T081125Z
END:VEVENT
BEGIN:VEVENT
UID:4562026-05-182026-05-18
DTSTART:20260518T180000Z
SEQUENCE:0
TRANSP:OPAQUE
DTEND:20260518T180000Z
LOCATION:2706 Philadelphia Ave\nOcean City MD 21842
X-APPLE-STRUCTURED-LOCATION;VALUE=URI;X-ADDRESS=2706 Philadelphia Ave\nOcea
 n City MD 21842;X-APPLE-RADIUS=49;X-TITLE=2706 Philadelphia Ave:geo:38.356
 731,-75.074822
GEO:38.356731;-75.074822
SUMMARY:Happy Hour Specials at Pit 'n Pub
CLASS:PUBLIC
DESCRIPTION:TODAY'S HAPPY HOUR SPECIALS:\n\n * 25% Off All Drinks and Appet
 izers\n\n
X-ALT-DESC;FMTTYPE=text/html:<p><strong>Today&#39\;s Happy Hour Specials:</
 strong></p>\n\n<ul>\n<li>25% Off All Drinks and Appetizers</li>\n</ul>
DTSTAMP:20260424T081125Z
END:VEVENT
BEGIN:VEVENT
UID:4562026-05-192026-05-19
DTSTART:20260519T180000Z
SEQUENCE:0
TRANSP:OPAQUE
DTEND:20260519T180000Z
LOCATION:2706 Philadelphia Ave\nOcean City MD 21842
X-APPLE-STRUCTURED-LOCATION;VALUE=URI;X-ADDRESS=2706 Philadelphia Ave\nOcea
 n City MD 21842;X-APPLE-RADIUS=49;X-TITLE=2706 Philadelphia Ave:geo:38.356
 731,-75.074822
GEO:38.356731;-75.074822
SUMMARY:Happy Hour Specials at Pit 'n Pub
CLASS:PUBLIC
DESCRIPTION:TODAY'S HAPPY HOUR SPECIALS:\n\n * 25% Off All Drinks and Appet
 izers\n\n
X-ALT-DESC;FMTTYPE=text/html:<p><strong>Today&#39\;s Happy Hour Specials:</
 strong></p>\n\n<ul>\n<li>25% Off All Drinks and Appetizers</li>\n</ul>
DTSTAMP:20260424T081125Z
END:VEVENT
BEGIN:VEVENT
UID:4562026-05-202026-05-20
DTSTART:20260520T180000Z
SEQUENCE:0
TRANSP:OPAQUE
DTEND:20260520T180000Z
LOCATION:2706 Philadelphia Ave\nOcean City MD 21842
X-APPLE-STRUCTURED-LOCATION;VALUE=URI;X-ADDRESS=2706 Philadelphia Ave\nOcea
 n City MD 21842;X-APPLE-RADIUS=49;X-TITLE=2706 Philadelphia Ave:geo:38.356
 731,-75.074822
GEO:38.356731;-75.074822
SUMMARY:Happy Hour Specials at Pit 'n Pub
CLASS:PUBLIC
DESCRIPTION:TODAY'S HAPPY HOUR SPECIALS:\n\n * 25% Off All Drinks and Appet
 izers\n\n
X-ALT-DESC;FMTTYPE=text/html:<p><strong>Today&#39\;s Happy Hour Specials:</
 strong></p>\n\n<ul>\n<li>25% Off All Drinks and Appetizers</li>\n</ul>
DTSTAMP:20260424T081125Z
END:VEVENT
BEGIN:VEVENT
UID:4562026-05-212026-05-21
DTSTART:20260521T180000Z
SEQUENCE:0
TRANSP:OPAQUE
DTEND:20260521T180000Z
LOCATION:2706 Philadelphia Ave\nOcean City MD 21842
X-APPLE-STRUCTURED-LOCATION;VALUE=URI;X-ADDRESS=2706 Philadelphia Ave\nOcea
 n City MD 21842;X-APPLE-RADIUS=49;X-TITLE=2706 Philadelphia Ave:geo:38.356
 731,-75.074822
GEO:38.356731;-75.074822
SUMMARY:Happy Hour Specials at Pit 'n Pub
CLASS:PUBLIC
DESCRIPTION:TODAY'S HAPPY HOUR SPECIALS:\n\n * 25% Off All Drinks and Appet
 izers\n\n
X-ALT-DESC;FMTTYPE=text/html:<p><strong>Today&#39\;s Happy Hour Specials:</
 strong></p>\n\n<ul>\n<li>25% Off All Drinks and Appetizers</li>\n</ul>
DTSTAMP:20260424T081125Z
END:VEVENT
BEGIN:VEVENT
UID:4562026-05-222026-05-22
DTSTART:20260522T180000Z
SEQUENCE:0
TRANSP:OPAQUE
DTEND:20260522T180000Z
LOCATION:2706 Philadelphia Ave\nOcean City MD 21842
X-APPLE-STRUCTURED-LOCATION;VALUE=URI;X-ADDRESS=2706 Philadelphia Ave\nOcea
 n City MD 21842;X-APPLE-RADIUS=49;X-TITLE=2706 Philadelphia Ave:geo:38.356
 731,-75.074822
GEO:38.356731;-75.074822
SUMMARY:Happy Hour Specials at Pit 'n Pub
CLASS:PUBLIC
DESCRIPTION:TODAY'S HAPPY HOUR SPECIALS:\n\n * 25% Off All Drinks and Appet
 izers\n\n
X-ALT-DESC;FMTTYPE=text/html:<p><strong>Today&#39\;s Happy Hour Specials:</
 strong></p>\n\n<ul>\n<li>25% Off All Drinks and Appetizers</li>\n</ul>
DTSTAMP:20260424T081125Z
END:VEVENT
BEGIN:VEVENT
UID:4562026-05-232026-05-23
DTSTART:20260523T180000Z
SEQUENCE:0
TRANSP:OPAQUE
DTEND:20260523T180000Z
LOCATION:2706 Philadelphia Ave\nOcean City MD 21842
X-APPLE-STRUCTURED-LOCATION;VALUE=URI;X-ADDRESS=2706 Philadelphia Ave\nOcea
 n City MD 21842;X-APPLE-RADIUS=49;X-TITLE=2706 Philadelphia Ave:geo:38.356
 731,-75.074822
GEO:38.356731;-75.074822
SUMMARY:Happy Hour Specials at Pit 'n Pub
CLASS:PUBLIC
DESCRIPTION:TODAY'S HAPPY HOUR SPECIALS:\n\n * 25% Off All Drinks and Appet
 izers\n\n
X-ALT-DESC;FMTTYPE=text/html:<p><strong>Today&#39\;s Happy Hour Specials:</
 strong></p>\n\n<ul>\n<li>25% Off All Drinks and Appetizers</li>\n</ul>
DTSTAMP:20260424T081125Z
END:VEVENT
BEGIN:VEVENT
UID:4562026-05-242026-05-24
DTSTART:20260524T180000Z
SEQUENCE:0
TRANSP:OPAQUE
DTEND:20260524T180000Z
LOCATION:2706 Philadelphia Ave\nOcean City MD 21842
X-APPLE-STRUCTURED-LOCATION;VALUE=URI;X-ADDRESS=2706 Philadelphia Ave\nOcea
 n City MD 21842;X-APPLE-RADIUS=49;X-TITLE=2706 Philadelphia Ave:geo:38.356
 731,-75.074822
GEO:38.356731;-75.074822
SUMMARY:Happy Hour Specials at Pit 'n Pub
CLASS:PUBLIC
DESCRIPTION:TODAY'S HAPPY HOUR SPECIALS:\n\n * 25% Off All Drinks and Appet
 izers\n\n
X-ALT-DESC;FMTTYPE=text/html:<p><strong>Today&#39\;s Happy Hour Specials:</
 strong></p>\n\n<ul>\n<li>25% Off All Drinks and Appetizers</li>\n</ul>
DTSTAMP:20260424T081125Z
END:VEVENT
BEGIN:VEVENT
UID:4562026-05-252026-05-25
DTSTART:20260525T180000Z
SEQUENCE:0
TRANSP:OPAQUE
DTEND:20260525T180000Z
LOCATION:2706 Philadelphia Ave\nOcean City MD 21842
X-APPLE-STRUCTURED-LOCATION;VALUE=URI;X-ADDRESS=2706 Philadelphia Ave\nOcea
 n City MD 21842;X-APPLE-RADIUS=49;X-TITLE=2706 Philadelphia Ave:geo:38.356
 731,-75.074822
GEO:38.356731;-75.074822
SUMMARY:Happy Hour Specials at Pit 'n Pub
CLASS:PUBLIC
DESCRIPTION:TODAY'S HAPPY HOUR SPECIALS:\n\n * 25% Off All Drinks and Appet
 izers\n\n
X-ALT-DESC;FMTTYPE=text/html:<p><strong>Today&#39\;s Happy Hour Specials:</
 strong></p>\n\n<ul>\n<li>25% Off All Drinks and Appetizers</li>\n</ul>
DTSTAMP:20260424T081125Z
END:VEVENT
BEGIN:VEVENT
UID:4562026-05-262026-05-26
DTSTART:20260526T180000Z
SEQUENCE:0
TRANSP:OPAQUE
DTEND:20260526T180000Z
LOCATION:2706 Philadelphia Ave\nOcean City MD 21842
X-APPLE-STRUCTURED-LOCATION;VALUE=URI;X-ADDRESS=2706 Philadelphia Ave\nOcea
 n City MD 21842;X-APPLE-RADIUS=49;X-TITLE=2706 Philadelphia Ave:geo:38.356
 731,-75.074822
GEO:38.356731;-75.074822
SUMMARY:Happy Hour Specials at Pit 'n Pub
CLASS:PUBLIC
DESCRIPTION:TODAY'S HAPPY HOUR SPECIALS:\n\n * 25% Off All Drinks and Appet
 izers\n\n
X-ALT-DESC;FMTTYPE=text/html:<p><strong>Today&#39\;s Happy Hour Specials:</
 strong></p>\n\n<ul>\n<li>25% Off All Drinks and Appetizers</li>\n</ul>
DTSTAMP:20260424T081125Z
END:VEVENT
BEGIN:VEVENT
UID:4562026-05-272026-05-27
DTSTART:20260527T180000Z
SEQUENCE:0
TRANSP:OPAQUE
DTEND:20260527T180000Z
LOCATION:2706 Philadelphia Ave\nOcean City MD 21842
X-APPLE-STRUCTURED-LOCATION;VALUE=URI;X-ADDRESS=2706 Philadelphia Ave\nOcea
 n City MD 21842;X-APPLE-RADIUS=49;X-TITLE=2706 Philadelphia Ave:geo:38.356
 731,-75.074822
GEO:38.356731;-75.074822
SUMMARY:Happy Hour Specials at Pit 'n Pub
CLASS:PUBLIC
DESCRIPTION:TODAY'S HAPPY HOUR SPECIALS:\n\n * 25% Off All Drinks and Appet
 izers\n\n
X-ALT-DESC;FMTTYPE=text/html:<p><strong>Today&#39\;s Happy Hour Specials:</
 strong></p>\n\n<ul>\n<li>25% Off All Drinks and Appetizers</li>\n</ul>
DTSTAMP:20260424T081125Z
END:VEVENT
BEGIN:VEVENT
UID:4562026-05-282026-05-28
DTSTART:20260528T180000Z
SEQUENCE:0
TRANSP:OPAQUE
DTEND:20260528T180000Z
LOCATION:2706 Philadelphia Ave\nOcean City MD 21842
X-APPLE-STRUCTURED-LOCATION;VALUE=URI;X-ADDRESS=2706 Philadelphia Ave\nOcea
 n City MD 21842;X-APPLE-RADIUS=49;X-TITLE=2706 Philadelphia Ave:geo:38.356
 731,-75.074822
GEO:38.356731;-75.074822
SUMMARY:Happy Hour Specials at Pit 'n Pub
CLASS:PUBLIC
DESCRIPTION:TODAY'S HAPPY HOUR SPECIALS:\n\n * 25% Off All Drinks and Appet
 izers\n\n
X-ALT-DESC;FMTTYPE=text/html:<p><strong>Today&#39\;s Happy Hour Specials:</
 strong></p>\n\n<ul>\n<li>25% Off All Drinks and Appetizers</li>\n</ul>
DTSTAMP:20260424T081125Z
END:VEVENT
BEGIN:VEVENT
UID:4562026-05-292026-05-29
DTSTART:20260529T180000Z
SEQUENCE:0
TRANSP:OPAQUE
DTEND:20260529T180000Z
LOCATION:2706 Philadelphia Ave\nOcean City MD 21842
X-APPLE-STRUCTURED-LOCATION;VALUE=URI;X-ADDRESS=2706 Philadelphia Ave\nOcea
 n City MD 21842;X-APPLE-RADIUS=49;X-TITLE=2706 Philadelphia Ave:geo:38.356
 731,-75.074822
GEO:38.356731;-75.074822
SUMMARY:Happy Hour Specials at Pit 'n Pub
CLASS:PUBLIC
DESCRIPTION:TODAY'S HAPPY HOUR SPECIALS:\n\n * 25% Off All Drinks and Appet
 izers\n\n
X-ALT-DESC;FMTTYPE=text/html:<p><strong>Today&#39\;s Happy Hour Specials:</
 strong></p>\n\n<ul>\n<li>25% Off All Drinks and Appetizers</li>\n</ul>
DTSTAMP:20260424T081125Z
END:VEVENT
BEGIN:VEVENT
UID:4562026-05-302026-05-30
DTSTART:20260530T180000Z
SEQUENCE:0
TRANSP:OPAQUE
DTEND:20260530T180000Z
LOCATION:2706 Philadelphia Ave\nOcean City MD 21842
X-APPLE-STRUCTURED-LOCATION;VALUE=URI;X-ADDRESS=2706 Philadelphia Ave\nOcea
 n City MD 21842;X-APPLE-RADIUS=49;X-TITLE=2706 Philadelphia Ave:geo:38.356
 731,-75.074822
GEO:38.356731;-75.074822
SUMMARY:Happy Hour Specials at Pit 'n Pub
CLASS:PUBLIC
DESCRIPTION:TODAY'S HAPPY HOUR SPECIALS:\n\n * 25% Off All Drinks and Appet
 izers\n\n
X-ALT-DESC;FMTTYPE=text/html:<p><strong>Today&#39\;s Happy Hour Specials:</
 strong></p>\n\n<ul>\n<li>25% Off All Drinks and Appetizers</li>\n</ul>
DTSTAMP:20260424T081125Z
END:VEVENT
BEGIN:VEVENT
UID:4562026-05-312026-05-31
DTSTART:20260531T180000Z
SEQUENCE:0
TRANSP:OPAQUE
DTEND:20260531T180000Z
LOCATION:2706 Philadelphia Ave\nOcean City MD 21842
X-APPLE-STRUCTURED-LOCATION;VALUE=URI;X-ADDRESS=2706 Philadelphia Ave\nOcea
 n City MD 21842;X-APPLE-RADIUS=49;X-TITLE=2706 Philadelphia Ave:geo:38.356
 731,-75.074822
GEO:38.356731;-75.074822
SUMMARY:Happy Hour Specials at Pit 'n Pub
CLASS:PUBLIC
DESCRIPTION:TODAY'S HAPPY HOUR SPECIALS:\n\n * 25% Off All Drinks and Appet
 izers\n\n
X-ALT-DESC;FMTTYPE=text/html:<p><strong>Today&#39\;s Happy Hour Specials:</
 strong></p>\n\n<ul>\n<li>25% Off All Drinks and Appetizers</li>\n</ul>
DTSTAMP:20260424T081125Z
END:VEVENT
END:VCALENDAR