BEGIN:VCALENDAR
VERSION:2.0
PRODID:crystalbeach.exploreoc.com
X-WR-CALNAME:Spring Dining Specials at District 24 & Blu Crabhouse
BEGIN:VEVENT
UID:7532026-04-092026-04-09
DTSTART:20260409T200000Z
SEQUENCE:0
TRANSP:OPAQUE
DTEND:20260409T200000Z
LOCATION:2305 Philadelphia Ave\nOcean City MD 21842
X-APPLE-STRUCTURED-LOCATION;VALUE=URI;X-ADDRESS=2305 Philadelphia Ave\nOcea
 n City MD 21842;X-APPLE-RADIUS=49;X-TITLE=2305 Philadelphia Ave:geo:38.353
 477,-75.077515
GEO:38.353477;-75.077515
SUMMARY:Spring Dining Specials at District 24 & Blu Crabhouse
CLASS:PUBLIC
DESCRIPTION:Today's Dinner Specials at Blu Crab House & Raw Bar\n\n_Thursda
 y and Friday_\n\n * BOGO - 1/2 Off Entrees\n\n
X-ALT-DESC;FMTTYPE=text/html:<p><strong>Today&#39\;s Dinner Specials at Blu
  Crab House &amp\; Raw Bar<br />\n<br />\n<em>Thursday and Friday</em></st
 rong></p>\n\n<ul>\n<li>BOGO - 1/2 Off Entrees</li>\n</ul>
DTSTAMP:20260424T013441Z
END:VEVENT
BEGIN:VEVENT
UID:7532026-04-102026-04-10
DTSTART:20260410T200000Z
SEQUENCE:0
TRANSP:OPAQUE
DTEND:20260410T200000Z
LOCATION:2305 Philadelphia Ave\nOcean City MD 21842
X-APPLE-STRUCTURED-LOCATION;VALUE=URI;X-ADDRESS=2305 Philadelphia Ave\nOcea
 n City MD 21842;X-APPLE-RADIUS=49;X-TITLE=2305 Philadelphia Ave:geo:38.353
 477,-75.077515
GEO:38.353477;-75.077515
SUMMARY:Spring Dining Specials at District 24 & Blu Crabhouse
CLASS:PUBLIC
DESCRIPTION:Today's Dinner Specials at Blu Crab House & Raw Bar\n\n_Thursda
 y and Friday_\n\n * BOGO - 1/2 Off Entrees\n\n
X-ALT-DESC;FMTTYPE=text/html:<p><strong>Today&#39\;s Dinner Specials at Blu
  Crab House &amp\; Raw Bar<br />\n<br />\n<em>Thursday and Friday</em></st
 rong></p>\n\n<ul>\n<li>BOGO - 1/2 Off Entrees</li>\n</ul>
DTSTAMP:20260424T013441Z
END:VEVENT
BEGIN:VEVENT
UID:7532026-04-152026-04-15
DTSTART:20260415T200000Z
SEQUENCE:0
TRANSP:OPAQUE
DTEND:20260415T200000Z
LOCATION:2305 Philadelphia Ave\nOcean City MD 21842
X-APPLE-STRUCTURED-LOCATION;VALUE=URI;X-ADDRESS=2305 Philadelphia Ave\nOcea
 n City MD 21842;X-APPLE-RADIUS=49;X-TITLE=2305 Philadelphia Ave:geo:38.353
 477,-75.077515
GEO:38.353477;-75.077515
SUMMARY:Spring Dining Specials at District 24 & Blu Crabhouse
CLASS:PUBLIC
DESCRIPTION:Today's Dinner Specials at Blu Crab House & Raw Bar\n\n_Thursda
 y and Friday_\n\n * BOGO - 1/2 Off Entrees\n\n
X-ALT-DESC;FMTTYPE=text/html:<p><strong>Today&#39\;s Dinner Specials at Blu
  Crab House &amp\; Raw Bar<br />\n<br />\n<em>Thursday and Friday</em></st
 rong></p>\n\n<ul>\n<li>BOGO - 1/2 Off Entrees</li>\n</ul>
DTSTAMP:20260424T013441Z
END:VEVENT
BEGIN:VEVENT
UID:7532026-04-162026-04-16
DTSTART:20260416T200000Z
SEQUENCE:0
TRANSP:OPAQUE
DTEND:20260416T200000Z
LOCATION:2305 Philadelphia Ave\nOcean City MD 21842
X-APPLE-STRUCTURED-LOCATION;VALUE=URI;X-ADDRESS=2305 Philadelphia Ave\nOcea
 n City MD 21842;X-APPLE-RADIUS=49;X-TITLE=2305 Philadelphia Ave:geo:38.353
 477,-75.077515
GEO:38.353477;-75.077515
SUMMARY:Spring Dining Specials at District 24 & Blu Crabhouse
CLASS:PUBLIC
DESCRIPTION:Today's Dinner Specials at Blu Crab House & Raw Bar\n\n_Thursda
 y and Friday_\n\n * BOGO - 1/2 Off Entrees\n\n
X-ALT-DESC;FMTTYPE=text/html:<p><strong>Today&#39\;s Dinner Specials at Blu
  Crab House &amp\; Raw Bar<br />\n<br />\n<em>Thursday and Friday</em></st
 rong></p>\n\n<ul>\n<li>BOGO - 1/2 Off Entrees</li>\n</ul>
DTSTAMP:20260424T013441Z
END:VEVENT
BEGIN:VEVENT
UID:7532026-04-172026-04-17
DTSTART:20260417T200000Z
SEQUENCE:0
TRANSP:OPAQUE
DTEND:20260417T200000Z
LOCATION:2305 Philadelphia Ave\nOcean City MD 21842
X-APPLE-STRUCTURED-LOCATION;VALUE=URI;X-ADDRESS=2305 Philadelphia Ave\nOcea
 n City MD 21842;X-APPLE-RADIUS=49;X-TITLE=2305 Philadelphia Ave:geo:38.353
 477,-75.077515
GEO:38.353477;-75.077515
SUMMARY:Spring Dining Specials at District 24 & Blu Crabhouse
CLASS:PUBLIC
DESCRIPTION:Today's Dinner Specials at Blu Crab House & Raw Bar\n\n_Thursda
 y and Friday_\n\n * BOGO - 1/2 Off Entrees\n\n
X-ALT-DESC;FMTTYPE=text/html:<p><strong>Today&#39\;s Dinner Specials at Blu
  Crab House &amp\; Raw Bar<br />\n<br />\n<em>Thursday and Friday</em></st
 rong></p>\n\n<ul>\n<li>BOGO - 1/2 Off Entrees</li>\n</ul>
DTSTAMP:20260424T013441Z
END:VEVENT
BEGIN:VEVENT
UID:7532026-04-222026-04-22
DTSTART:20260422T200000Z
SEQUENCE:0
TRANSP:OPAQUE
DTEND:20260422T200000Z
LOCATION:2305 Philadelphia Ave\nOcean City MD 21842
X-APPLE-STRUCTURED-LOCATION;VALUE=URI;X-ADDRESS=2305 Philadelphia Ave\nOcea
 n City MD 21842;X-APPLE-RADIUS=49;X-TITLE=2305 Philadelphia Ave:geo:38.353
 477,-75.077515
GEO:38.353477;-75.077515
SUMMARY:Spring Dining Specials at District 24 & Blu Crabhouse
CLASS:PUBLIC
DESCRIPTION:Today's Dinner Specials at Blu Crab House & Raw Bar\n\n_Thursda
 y and Friday_\n\n * BOGO - 1/2 Off Entrees\n\n
X-ALT-DESC;FMTTYPE=text/html:<p><strong>Today&#39\;s Dinner Specials at Blu
  Crab House &amp\; Raw Bar<br />\n<br />\n<em>Thursday and Friday</em></st
 rong></p>\n\n<ul>\n<li>BOGO - 1/2 Off Entrees</li>\n</ul>
DTSTAMP:20260424T013441Z
END:VEVENT
BEGIN:VEVENT
UID:7532026-04-232026-04-23
DTSTART:20260423T200000Z
SEQUENCE:0
TRANSP:OPAQUE
DTEND:20260423T200000Z
LOCATION:2305 Philadelphia Ave\nOcean City MD 21842
X-APPLE-STRUCTURED-LOCATION;VALUE=URI;X-ADDRESS=2305 Philadelphia Ave\nOcea
 n City MD 21842;X-APPLE-RADIUS=49;X-TITLE=2305 Philadelphia Ave:geo:38.353
 477,-75.077515
GEO:38.353477;-75.077515
SUMMARY:Spring Dining Specials at District 24 & Blu Crabhouse
CLASS:PUBLIC
DESCRIPTION:Today's Dinner Specials at Blu Crab House & Raw Bar\n\n_Thursda
 y and Friday_\n\n * BOGO - 1/2 Off Entrees\n\n
X-ALT-DESC;FMTTYPE=text/html:<p><strong>Today&#39\;s Dinner Specials at Blu
  Crab House &amp\; Raw Bar<br />\n<br />\n<em>Thursday and Friday</em></st
 rong></p>\n\n<ul>\n<li>BOGO - 1/2 Off Entrees</li>\n</ul>
DTSTAMP:20260424T013441Z
END:VEVENT
BEGIN:VEVENT
UID:7532026-04-242026-04-24
DTSTART:20260424T200000Z
SEQUENCE:0
TRANSP:OPAQUE
DTEND:20260424T200000Z
LOCATION:2305 Philadelphia Ave\nOcean City MD 21842
X-APPLE-STRUCTURED-LOCATION;VALUE=URI;X-ADDRESS=2305 Philadelphia Ave\nOcea
 n City MD 21842;X-APPLE-RADIUS=49;X-TITLE=2305 Philadelphia Ave:geo:38.353
 477,-75.077515
GEO:38.353477;-75.077515
SUMMARY:Spring Dining Specials at District 24 & Blu Crabhouse
CLASS:PUBLIC
DESCRIPTION:Today's Dinner Specials at Blu Crab House & Raw Bar\n\n_Thursda
 y and Friday_\n\n * BOGO - 1/2 Off Entrees\n\n
X-ALT-DESC;FMTTYPE=text/html:<p><strong>Today&#39\;s Dinner Specials at Blu
  Crab House &amp\; Raw Bar<br />\n<br />\n<em>Thursday and Friday</em></st
 rong></p>\n\n<ul>\n<li>BOGO - 1/2 Off Entrees</li>\n</ul>
DTSTAMP:20260424T013441Z
END:VEVENT
BEGIN:VEVENT
UID:7532026-04-292026-04-29
DTSTART:20260429T200000Z
SEQUENCE:0
TRANSP:OPAQUE
DTEND:20260429T200000Z
LOCATION:2305 Philadelphia Ave\nOcean City MD 21842
X-APPLE-STRUCTURED-LOCATION;VALUE=URI;X-ADDRESS=2305 Philadelphia Ave\nOcea
 n City MD 21842;X-APPLE-RADIUS=49;X-TITLE=2305 Philadelphia Ave:geo:38.353
 477,-75.077515
GEO:38.353477;-75.077515
SUMMARY:Spring Dining Specials at District 24 & Blu Crabhouse
CLASS:PUBLIC
DESCRIPTION:Today's Dinner Specials at Blu Crab House & Raw Bar\n\n_Thursda
 y and Friday_\n\n * BOGO - 1/2 Off Entrees\n\n
X-ALT-DESC;FMTTYPE=text/html:<p><strong>Today&#39\;s Dinner Specials at Blu
  Crab House &amp\; Raw Bar<br />\n<br />\n<em>Thursday and Friday</em></st
 rong></p>\n\n<ul>\n<li>BOGO - 1/2 Off Entrees</li>\n</ul>
DTSTAMP:20260424T013441Z
END:VEVENT
BEGIN:VEVENT
UID:7532026-04-302026-04-30
DTSTART:20260430T200000Z
SEQUENCE:0
TRANSP:OPAQUE
DTEND:20260430T200000Z
LOCATION:2305 Philadelphia Ave\nOcean City MD 21842
X-APPLE-STRUCTURED-LOCATION;VALUE=URI;X-ADDRESS=2305 Philadelphia Ave\nOcea
 n City MD 21842;X-APPLE-RADIUS=49;X-TITLE=2305 Philadelphia Ave:geo:38.353
 477,-75.077515
GEO:38.353477;-75.077515
SUMMARY:Spring Dining Specials at District 24 & Blu Crabhouse
CLASS:PUBLIC
DESCRIPTION:Today's Dinner Specials at Blu Crab House & Raw Bar\n\n_Thursda
 y and Friday_\n\n * BOGO - 1/2 Off Entrees\n\n
X-ALT-DESC;FMTTYPE=text/html:<p><strong>Today&#39\;s Dinner Specials at Blu
  Crab House &amp\; Raw Bar<br />\n<br />\n<em>Thursday and Friday</em></st
 rong></p>\n\n<ul>\n<li>BOGO - 1/2 Off Entrees</li>\n</ul>
DTSTAMP:20260424T013441Z
END:VEVENT
END:VCALENDAR